BEGIN:VCALENDAR
VERSION:2.0
PRODID:SchoolNow
CALSCALE:GREGORIAN
BEGIN:VEVENT
UID:baa22bbc-15df-11f1-a9d1-02b1203cde5f
DTSTAMP:20260423T074007Z
SUMMARY:PTO Mtg
URL;VALUE=URI:https://www.sau14.org/ees/calendar/8882489/pto-mtg
DTSTART:20271101T230000Z
DTEND:20271102T000000Z
END:VEVENT
END:VCALENDAR
