BEGIN:VCALENDAR
VERSION:2.0
PRODID:SchoolNow
CALSCALE:GREGORIAN
BEGIN:VEVENT
UID:b325bbe4-1678-11f1-8494-0affdb77e1e3
DTSTAMP:20260420T003507Z
SUMMARY:Dance Club
URL;VALUE=URI:https://www.sau14.org/ees/calendar/8885022/dance-club
DTSTART:20260309T191500Z
DTEND:20260309T200000Z
END:VEVENT
END:VCALENDAR
