BEGIN:VCALENDAR
VERSION:2.0
PRODID:SchoolNow
CALSCALE:GREGORIAN
BEGIN:VEVENT
UID:b325ddf4-1678-11f1-ab4d-0affdb77e1e3
DTSTAMP:20260420T003507Z
SUMMARY:Dance Club
URL;VALUE=URI:https://www.sau14.org/ees/calendar/8885024/dance-club
DTSTART:20260323T191500Z
DTEND:20260323T200000Z
END:VEVENT
END:VCALENDAR
