BEGIN:VCALENDAR
VERSION:2.0
PRODID:SchoolNow
CALSCALE:GREGORIAN
BEGIN:VEVENT
UID:b325e22c-1678-11f1-8db6-0affdb77e1e3
DTSTAMP:20260420T003507Z
SUMMARY:Tinkercad Program
URL;VALUE=URI:https://www.sau14.org/ees/calendar/8885026/tinkercad-program
DTSTART:20260303T203000Z
DTEND:20260303T213000Z
END:VEVENT
END:VCALENDAR
