BEGIN:VCALENDAR
VERSION:2.0
PRODID:SchoolNow
CALSCALE:GREGORIAN
BEGIN:VEVENT
UID:b325e5f6-1678-11f1-abc0-0affdb77e1e3
DTSTAMP:20260420T003507Z
SUMMARY:Tinkercad Program
URL;VALUE=URI:https://www.sau14.org/ees/calendar/8885030/tinkercad-program
DTSTART:20260407T193000Z
DTEND:20260407T203000Z
END:VEVENT
END:VCALENDAR
