BEGIN:VCALENDAR
VERSION:2.0
PRODID:SchoolNow
CALSCALE:GREGORIAN
BEGIN:VEVENT
UID:9bd7f2a0-1843-11f1-b54d-02e9aab8d741
DTSTAMP:20260423T074007Z
SUMMARY:SCHOOL BOARD MEETING
URL;VALUE=URI:https://www.sau14.org/ees/calendar/8891735/school-board-meeti
 ng
DTSTART:20271104T220000Z
DTEND:20271105T000000Z
END:VEVENT
END:VCALENDAR
