BEGIN:VCALENDAR
VERSION:2.0
PRODID:SchoolNow
CALSCALE:GREGORIAN
BEGIN:VEVENT
UID:0e61c7fc-2338-11f1-8f75-0a58a9feac02
DTSTAMP:20260423T074007Z
SUMMARY:SCHOOL BOARD MEETING
URL;VALUE=URI:https://www.sau14.org/ees/calendar/8928896/school-board-meeti
 ng
DTSTART:20271118T230000Z
DTEND:20271119T010000Z
END:VEVENT
END:VCALENDAR
