BEGIN:VCALENDAR
VERSION:2.0
PRODID:SchoolNow
CALSCALE:GREGORIAN
BEGIN:VEVENT
UID:4ca957f6-3228-11f1-9a69-0a58a9feac02
DTSTAMP:20260423T074007Z
SUMMARY:PTO Mtg
URL;VALUE=URI:https://www.sau14.org/ees/calendar/8976018/pto-mtg
DTSTART:20271207T000000Z
DTEND:20271207T010000Z
END:VEVENT
END:VCALENDAR
