BEGIN:VCALENDAR
VERSION:2.0
PRODID:SchoolNow
CALSCALE:GREGORIAN
BEGIN:VEVENT
UID:e722666c-39ec-11f1-bd73-0affd585c32f
DTSTAMP:20260423T074007Z
SUMMARY:SCHOOL BOARD MEETING
URL;VALUE=URI:https://www.sau14.org/ees/calendar/8998894/school-board-meeti
 ng
DTSTART:20271216T230000Z
DTEND:20271217T010000Z
END:VEVENT
END:VCALENDAR
