BEGIN:VCALENDAR
VERSION:2.0
PRODID:SchoolNow
CALSCALE:GREGORIAN
BEGIN:VEVENT
UID:88f78efc-a905-11ee-baee-0a58a9feac02
DTSTAMP:20251217T020515Z
SUMMARY:SCHOOL BOARD MEETING
URL;VALUE=URI:https://www.sau14.org/emhs/calendar/5088882/school-board-meet
 ing
DTSTART:20250821T230000Z
DTEND:20250822T010000Z
END:VEVENT
END:VCALENDAR
