BEGIN:VCALENDAR
VERSION:2.0
PRODID:SchoolNow
CALSCALE:GREGORIAN
BEGIN:VEVENT
UID:edd621e8-b65d-11ee-8997-0a58a9feac02
DTSTAMP:20251217T020515Z
SUMMARY:SCHOOL BOARD MEETING
URL;VALUE=URI:https://www.sau14.org/emhs/calendar/5175707/school-board-meet
 ing
DTSTART:20250918T230000Z
DTEND:20250919T010000Z
END:VEVENT
END:VCALENDAR
