BEGIN:VCALENDAR
VERSION:2.0
PRODID:SchoolNow
CALSCALE:GREGORIAN
BEGIN:VEVENT
UID:7a87eac8-cf76-11ee-b501-0a29334e2fd3
DTSTAMP:20251217T020515Z
SUMMARY:SCHOOL BOARD MEETING
URL;VALUE=URI:https://www.sau14.org/emhs/calendar/5362011/school-board-meet
 ing
DTSTART:20251016T220000Z
DTEND:20251017T000000Z
END:VEVENT
END:VCALENDAR
