BEGIN:VCALENDAR
VERSION:2.0
PRODID:SchoolNow
CALSCALE:GREGORIAN
BEGIN:VEVENT
UID:402c6598-e88f-11ee-8c5f-0a58a9feac02
DTSTAMP:20251217T020514Z
SUMMARY:National Educational Support Professional Day
URL;VALUE=URI:https://www.sau14.org/emhs/calendar/5607122/national-educatio
 nal-support-professional-day
DTSTART;VALUE=DATE:20251119
DTEND;VALUE=DATE:20251120
END:VEVENT
END:VCALENDAR
