BEGIN:VCALENDAR
VERSION:2.0
PRODID:SchoolNow
CALSCALE:GREGORIAN
BEGIN:VEVENT
UID:402cb340-e88f-11ee-b8b0-0a58a9feac02
DTSTAMP:20251217T020515Z
SUMMARY:SCHOOL BOARD MEETING
URL;VALUE=URI:https://www.sau14.org/emhs/calendar/5607124/school-board-meet
 ing
DTSTART:20251121T000000Z
DTEND:20251121T020000Z
END:VEVENT
END:VCALENDAR
