BEGIN:VCALENDAR
VERSION:2.0
PRODID:SchoolNow
CALSCALE:GREGORIAN
BEGIN:VEVENT
UID:e99e6430-063c-11ef-92c4-0affecde1f91
DTSTAMP:20251217T020515Z
SUMMARY:SCHOOL BOARD MEETING
URL;VALUE=URI:https://www.sau14.org/emhs/calendar/5880355/school-board-meet
 ing
DTSTART:20251219T000000Z
DTEND:20251219T020000Z
END:VEVENT
END:VCALENDAR
