BEGIN:VCALENDAR
VERSION:2.0
PRODID:SchoolNow
CALSCALE:GREGORIAN
BEGIN:VEVENT
UID:36a34454-326a-11ef-a4fa-0a58a9feac02
DTSTAMP:20251217T020515Z
SUMMARY:SCHOOL BOARD MEETING
URL;VALUE=URI:https://www.sau14.org/emhs/calendar/6163341/school-board-meet
 ing
DTSTART:20260220T000000Z
DTEND:20260220T020000Z
END:VEVENT
END:VCALENDAR
