BEGIN:VCALENDAR
VERSION:2.0
PRODID:SchoolNow
CALSCALE:GREGORIAN
BEGIN:VEVENT
UID:0c9c4610-4886-11ef-9cbe-0a58a9feac02
DTSTAMP:20251217T020515Z
SUMMARY:SCHOOL BOARD MEETING
URL;VALUE=URI:https://www.sau14.org/emhs/calendar/6296695/school-board-meet
 ing
DTSTART:20260319T230000Z
DTEND:20260320T010000Z
END:VEVENT
END:VCALENDAR
