BEGIN:VCALENDAR
VERSION:2.0
PRODID:SchoolNow
CALSCALE:GREGORIAN
BEGIN:VEVENT
UID:c68291dc-5e71-11ef-a576-0a58a9feac02
DTSTAMP:20251217T020515Z
SUMMARY:SCHOOL BOARD MEETING
URL;VALUE=URI:https://www.sau14.org/emhs/calendar/6428212/school-board-meet
 ing
DTSTART:20260416T230000Z
DTEND:20260417T010000Z
END:VEVENT
END:VCALENDAR
