BEGIN:VCALENDAR
VERSION:2.0
PRODID:SchoolNow
CALSCALE:GREGORIAN
BEGIN:VEVENT
UID:c4afbeb8-78f0-11ef-ad69-0a58a9feac02
DTSTAMP:20251217T020515Z
SUMMARY:SCHOOL BOARD MEETING
URL;VALUE=URI:https://www.sau14.org/emhs/calendar/6664550/school-board-meet
 ing
DTSTART:20260521T230000Z
DTEND:20260522T010000Z
END:VEVENT
END:VCALENDAR
