BEGIN:VCALENDAR
VERSION:2.0
PRODID:SchoolNow
CALSCALE:GREGORIAN
BEGIN:VEVENT
UID:b1425b3a-8da7-11ef-aa08-0a58a9feac02
DTSTAMP:20251217T020515Z
SUMMARY:SCHOOL BOARD MEETING
URL;VALUE=URI:https://www.sau14.org/emhs/calendar/6853844/school-board-meet
 ing
DTSTART:20260618T230000Z
DTEND:20260619T010000Z
END:VEVENT
END:VCALENDAR
