BEGIN:VCALENDAR
VERSION:2.0
PRODID:SchoolNow
CALSCALE:GREGORIAN
BEGIN:VEVENT
UID:7d36b6b4-a5f4-11ef-a48a-0affdc66f07b
DTSTAMP:20251217T020515Z
SUMMARY:SCHOOL BOARD MEETING
URL;VALUE=URI:https://www.sau14.org/emhs/calendar/7043600/school-board-meet
 ing
DTSTART:20260716T230000Z
DTEND:20260717T010000Z
END:VEVENT
END:VCALENDAR
