BEGIN:VCALENDAR
VERSION:2.0
PRODID:SchoolNow
CALSCALE:GREGORIAN
BEGIN:VEVENT
UID:3101ca4e-ac21-11ef-9b9a-0a58a9feac02
DTSTAMP:20251217T020514Z
SUMMARY:EMHS PICTURE RETAKE DAY
URL;VALUE=URI:https://www.sau14.org/emhs/calendar/7083875/emhs-picture-reta
 ke-day
DTSTART:20251029T110000Z
DTEND:20251029T140000Z
END:VEVENT
END:VCALENDAR
