BEGIN:VCALENDAR
VERSION:2.0
PRODID:SchoolNow
CALSCALE:GREGORIAN
BEGIN:VEVENT
UID:31154ad8-ac21-11ef-bd21-0a58a9feac02
DTSTAMP:20251217T020514Z
SUMMARY:EMHS PICTURE DAY
LOCATION:School Counseling Lobby
URL;VALUE=URI:https://www.sau14.org/emhs/calendar/7083876/emhs-picture-day
DTSTART:20250910T110000Z
DTEND:20250910T140000Z
END:VEVENT
END:VCALENDAR
