BEGIN:VCALENDAR
VERSION:2.0
PRODID:SchoolNow
CALSCALE:GREGORIAN
BEGIN:VEVENT
UID:ac335706-ed75-11ef-b1e0-0a58a9feac02
DTSTAMP:20251217T020515Z
SUMMARY:SCHOOL BOARD MEETING
URL;VALUE=URI:https://www.sau14.org/emhs/calendar/7486861/school-board-meet
 ing
DTSTART:20261015T230000Z
DTEND:20261016T010000Z
END:VEVENT
END:VCALENDAR
