BEGIN:VCALENDAR
VERSION:2.0
PRODID:SchoolNow
CALSCALE:GREGORIAN
BEGIN:VEVENT
UID:b866c1c6-0511-11f0-b215-0a58a9feac02
DTSTAMP:20251217T020514Z
SUMMARY:National Educational Support Professional Day
URL;VALUE=URI:https://www.sau14.org/emhs/calendar/7725541/national-educatio
 nal-support-professional-day
DTSTART;VALUE=DATE:20261118
DTEND;VALUE=DATE:20261119
END:VEVENT
END:VCALENDAR
