BEGIN:VCALENDAR
VERSION:2.0
PRODID:SchoolNow
CALSCALE:GREGORIAN
BEGIN:VEVENT
UID:adfa3142-05dd-11f0-976a-0affe79f44a5
DTSTAMP:20251217T020515Z
SUMMARY:SCHOOL BOARD MEETING
URL;VALUE=URI:https://www.sau14.org/emhs/calendar/7734116/school-board-meet
 ing
DTSTART:20261120T000000Z
DTEND:20261120T020000Z
END:VEVENT
END:VCALENDAR
