BEGIN:VCALENDAR
VERSION:2.0
PRODID:SchoolNow
CALSCALE:GREGORIAN
BEGIN:VEVENT
UID:357a8ebe-1c5e-11f0-80f9-0a58a9feac02
DTSTAMP:20251217T020515Z
SUMMARY:SCHOOL BOARD MEETING
URL;VALUE=URI:https://www.sau14.org/emhs/calendar/7953197/school-board-meet
 ing
DTSTART:20261218T000000Z
DTEND:20261218T020000Z
END:VEVENT
END:VCALENDAR
