BEGIN:VCALENDAR
VERSION:2.0
PRODID:SchoolNow
CALSCALE:GREGORIAN
BEGIN:VEVENT
UID:4a31253e-373e-11f0-a84f-0a58a9feac02
DTSTAMP:20251217T020515Z
SUMMARY:SCHOOL BOARD MEETING
URL;VALUE=URI:https://www.sau14.org/emhs/calendar/8181594/school-board-meet
 ing
DTSTART:20270122T000000Z
DTEND:20270122T020000Z
END:VEVENT
END:VCALENDAR
