BEGIN:VCALENDAR
VERSION:2.0
PRODID:SchoolNow
CALSCALE:GREGORIAN
BEGIN:VEVENT
UID:05a6bb52-5d15-11f0-a4db-0a58a9feac02
DTSTAMP:20251217T020514Z
SUMMARY:8th Grade Washington\, DC Trip
URL;VALUE=URI:https://www.sau14.org/emhs/calendar/8400491/8th-grade-washing
 ton-dc-trip
DTSTART;VALUE=DATE:20260317
DTEND;VALUE=DATE:20260321
END:VEVENT
END:VCALENDAR
