BEGIN:VCALENDAR
VERSION:2.0
PRODID:SchoolNow
CALSCALE:GREGORIAN
BEGIN:VEVENT
UID:a882d32e-6341-11f0-9d95-0affe9b8b9b1
DTSTAMP:20251217T020514Z
SUMMARY:NO SCHOOL
URL;VALUE=URI:https://www.sau14.org/emhs/calendar/8424679/no-school
DTSTART;VALUE=DATE:20250901
DTEND;VALUE=DATE:20250902
END:VEVENT
END:VCALENDAR
