BEGIN:VCALENDAR
VERSION:2.0
PRODID:SchoolNow
CALSCALE:GREGORIAN
BEGIN:VEVENT
UID:a882d662-6341-11f0-aadf-0affe9b8b9b1
DTSTAMP:20251217T020514Z
SUMMARY:Student-Led Conferences
URL;VALUE=URI:https://www.sau14.org/emhs/calendar/8424682/student-led-confe
 rences
DTSTART;VALUE=DATE:20251103
DTEND;VALUE=DATE:20251104
END:VEVENT
END:VCALENDAR
