BEGIN:VCALENDAR
VERSION:2.0
PRODID:SchoolNow
CALSCALE:GREGORIAN
BEGIN:VEVENT
UID:a882d75c-6341-11f0-b232-0affe9b8b9b1
DTSTAMP:20251217T020514Z
SUMMARY:NO SCHOOL - PROFESSIONAL DEVELOPMENT DAY
URL;VALUE=URI:https://www.sau14.org/emhs/calendar/8424683/no-school-profess
 ional-development-day
DTSTART;VALUE=DATE:20251110
DTEND;VALUE=DATE:20251111
END:VEVENT
END:VCALENDAR
