BEGIN:VCALENDAR
VERSION:2.0
PRODID:SchoolNow
CALSCALE:GREGORIAN
BEGIN:VEVENT
UID:a882d856-6341-11f0-a10a-0affe9b8b9b1
DTSTAMP:20251217T020514Z
SUMMARY:NO SCHOOL
URL;VALUE=URI:https://www.sau14.org/emhs/calendar/8424684/no-school
DTSTART;VALUE=DATE:20251111
DTEND;VALUE=DATE:20251112
END:VEVENT
END:VCALENDAR
