BEGIN:VCALENDAR
VERSION:2.0
PRODID:SchoolNow
CALSCALE:GREGORIAN
BEGIN:VEVENT
UID:a882d95a-6341-11f0-8053-0affe9b8b9b1
DTSTAMP:20251217T020514Z
SUMMARY:NO SCHOOL - THANKSGIVING BREAK
URL;VALUE=URI:https://www.sau14.org/emhs/calendar/8424685/no-school-thanksg
 iving-break
DTSTART;VALUE=DATE:20251126
DTEND;VALUE=DATE:20251129
END:VEVENT
END:VCALENDAR
