BEGIN:VCALENDAR
VERSION:2.0
PRODID:SchoolNow
CALSCALE:GREGORIAN
BEGIN:VEVENT
UID:a882da54-6341-11f0-bcf0-0affe9b8b9b1
DTSTAMP:20251217T020514Z
SUMMARY:NO SCHOOL - WINTER BREAK
URL;VALUE=URI:https://www.sau14.org/emhs/calendar/8424686/no-school-winter-
 break
DTSTART;VALUE=DATE:20251222
DTEND;VALUE=DATE:20251227
END:VEVENT
END:VCALENDAR
