BEGIN:VCALENDAR
VERSION:2.0
PRODID:SchoolNow
CALSCALE:GREGORIAN
BEGIN:VEVENT
UID:a882db58-6341-11f0-9f61-0affe9b8b9b1
DTSTAMP:20251217T020514Z
SUMMARY:NO SCHOOL - WINTER BREAK
URL;VALUE=URI:https://www.sau14.org/emhs/calendar/8424687/no-school-winter-
 break
DTSTART;VALUE=DATE:20251229
DTEND;VALUE=DATE:20260103
END:VEVENT
END:VCALENDAR
