BEGIN:VCALENDAR
VERSION:2.0
PRODID:SchoolNow
CALSCALE:GREGORIAN
BEGIN:VEVENT
UID:a882ded2-6341-11f0-8644-0affe9b8b9b1
DTSTAMP:20251217T020514Z
SUMMARY:NO SCHOOL
URL;VALUE=URI:https://www.sau14.org/emhs/calendar/8424689/no-school
DTSTART;VALUE=DATE:20260119
DTEND;VALUE=DATE:20260120
END:VEVENT
END:VCALENDAR
