BEGIN:VCALENDAR
VERSION:2.0
PRODID:SchoolNow
CALSCALE:GREGORIAN
BEGIN:VEVENT
UID:a882e30a-6341-11f0-a9bc-0affe9b8b9b1
DTSTAMP:20251217T020514Z
SUMMARY:NO SCHOOL - APRIL VACATION
URL;VALUE=URI:https://www.sau14.org/emhs/calendar/8424693/no-school-april-v
 acation
DTSTART;VALUE=DATE:20260427
DTEND;VALUE=DATE:20260502
END:VEVENT
END:VCALENDAR
