BEGIN:VCALENDAR
VERSION:2.0
PRODID:SchoolNow
CALSCALE:GREGORIAN
BEGIN:VEVENT
UID:a882e3fa-6341-11f0-9987-0affe9b8b9b1
DTSTAMP:20251217T020514Z
SUMMARY:STUDENT-LED CONFERENCES
URL;VALUE=URI:https://www.sau14.org/emhs/calendar/8424694/student-led-confe
 rences
DTSTART;VALUE=DATE:20260518
DTEND;VALUE=DATE:20260519
END:VEVENT
END:VCALENDAR
