BEGIN:VCALENDAR
VERSION:2.0
PRODID:SchoolNow
CALSCALE:GREGORIAN
BEGIN:VEVENT
UID:a882e5d0-6341-11f0-92dc-0affe9b8b9b1
DTSTAMP:20251217T020514Z
SUMMARY:NO SCHOOL
URL;VALUE=URI:https://www.sau14.org/emhs/calendar/8424696/no-school
DTSTART;VALUE=DATE:20260525
DTEND;VALUE=DATE:20260526
END:VEVENT
END:VCALENDAR
