BEGIN:VCALENDAR
VERSION:2.0
PRODID:SchoolNow
CALSCALE:GREGORIAN
BEGIN:VEVENT
UID:a882e6ca-6341-11f0-8751-0affe9b8b9b1
DTSTAMP:20251217T020514Z
SUMMARY:EMHS GRADUATION CEREMONY - CLASS OF 2026
URL;VALUE=URI:https://www.sau14.org/emhs/calendar/8424697/emhs-graduation-c
 eremony-class-of-2026
DTSTART:20260605T220000Z
DTEND:20260606T000000Z
END:VEVENT
END:VCALENDAR
