BEGIN:VCALENDAR
VERSION:2.0
PRODID:SchoolNow
CALSCALE:GREGORIAN
BEGIN:VEVENT
UID:a882e7c4-6341-11f0-bbc4-0affe9b8b9b1
DTSTAMP:20251217T020514Z
SUMMARY:LAST DAY OF SCHOOL FOR STUDENTS - 11:30AM DISMISSAL
URL;VALUE=URI:https://www.sau14.org/emhs/calendar/8424698/last-day-of-schoo
 l-for-students-11-30am-dismissal
DTSTART;VALUE=DATE:20260616
DTEND;VALUE=DATE:20260617
END:VEVENT
END:VCALENDAR
