BEGIN:VCALENDAR
VERSION:2.0
PRODID:SchoolNow
CALSCALE:GREGORIAN
BEGIN:VEVENT
UID:a882e8aa-6341-11f0-b644-0affe9b8b9b1
DTSTAMP:20251217T020514Z
SUMMARY:GRADES 6-8 FIELD DAY
URL;VALUE=URI:https://www.sau14.org/emhs/calendar/8424699/grades-6-8-field-
 day
DTSTART:20260616T113000Z
DTEND:20260616T150000Z
END:VEVENT
END:VCALENDAR
