BEGIN:VCALENDAR
VERSION:2.0
PRODID:SchoolNow
CALSCALE:GREGORIAN
BEGIN:VEVENT
UID:a882e99a-6341-11f0-b342-0affe9b8b9b1
DTSTAMP:20251217T020514Z
SUMMARY:8th Grade Recognition Ceremony
URL;VALUE=URI:https://www.sau14.org/emhs/calendar/8424700/8th-grade-recogni
 tion-ceremony
DTSTART:20260612T220000Z
DTEND:20260612T230000Z
END:VEVENT
END:VCALENDAR
