BEGIN:VCALENDAR
VERSION:2.0
PRODID:SchoolNow
CALSCALE:GREGORIAN
BEGIN:VEVENT
UID:a882ea80-6341-11f0-93e3-0affe9b8b9b1
DTSTAMP:20251217T020514Z
SUMMARY:8th Grade Students Arrive for Promotion Ceremony (to O'Day Gym)
URL;VALUE=URI:https://www.sau14.org/emhs/calendar/8424701/8th-grade-student
 s-arrive-for-promotion-ceremony-to-oday-gym
DTSTART:20260612T213000Z
DTEND:20260612T220000Z
END:VEVENT
END:VCALENDAR
