BEGIN:VCALENDAR
VERSION:2.0
PRODID:SchoolNow
CALSCALE:GREGORIAN
BEGIN:VEVENT
UID:a882eb70-6341-11f0-bc33-0affe9b8b9b1
DTSTAMP:20251217T020514Z
SUMMARY:8th Grade Celebration and Bonfire
URL;VALUE=URI:https://www.sau14.org/emhs/calendar/8424702/8th-grade-celebra
 tion-and-bonfire
DTSTART:20260612T230000Z
DTEND:20260613T010000Z
END:VEVENT
END:VCALENDAR
