BEGIN:VCALENDAR
VERSION:2.0
PRODID:SchoolNow
CALSCALE:GREGORIAN
BEGIN:VEVENT
UID:a882ec60-6341-11f0-9c22-0affe9b8b9b1
DTSTAMP:20251217T020514Z
SUMMARY:8th Grade Breakfast
URL;VALUE=URI:https://www.sau14.org/emhs/calendar/8424703/8th-grade-breakfa
 st
DTSTART:20260612T133000Z
DTEND:20260612T143000Z
END:VEVENT
END:VCALENDAR
