BEGIN:VCALENDAR
VERSION:2.0
PRODID:SchoolNow
CALSCALE:GREGORIAN
BEGIN:VEVENT
UID:a882edaa-6341-11f0-9c99-0affe9b8b9b1
DTSTAMP:20251217T020514Z
SUMMARY:8th Grade Promotion Ceremony Rehersal
URL;VALUE=URI:https://www.sau14.org/emhs/calendar/8424704/8th-grade-promoti
 on-ceremony-rehersal
DTSTART:20260612T150000Z
DTEND:20260612T163000Z
END:VEVENT
END:VCALENDAR
