BEGIN:VCALENDAR
VERSION:2.0
PRODID:SchoolNow
CALSCALE:GREGORIAN
BEGIN:VEVENT
UID:a882ee9a-6341-11f0-b254-0affe9b8b9b1
DTSTAMP:20251217T020514Z
SUMMARY:Students report to the Allen Gym at 5:00 pm in cap/gown/tassel and 
 regalia
LOCATION:EMHS-1-C120-Allen Gymnasium (251)
URL;VALUE=URI:https://www.sau14.org/emhs/calendar/8424705/students-report-t
 o-the-allen-gym-at-5-00-pm-in-cap-gown-tassel-and-regalia
DTSTART:20260605T210000Z
DTEND:20260605T213000Z
END:VEVENT
END:VCALENDAR
