BEGIN:VCALENDAR
VERSION:2.0
PRODID:SchoolNow
CALSCALE:GREGORIAN
BEGIN:VEVENT
UID:a882ef8a-6341-11f0-91c8-0affe9b8b9b1
DTSTAMP:20251217T020514Z
SUMMARY:SENIORS LAST DAY OF SCHOOL
URL;VALUE=URI:https://www.sau14.org/emhs/calendar/8424706/seniors-last-day-
 of-school
DTSTART;VALUE=DATE:20260529
DTEND;VALUE=DATE:20260530
END:VEVENT
END:VCALENDAR
